BEGIN:VCALENDAR
VERSION:2.0
PRODID:-//Vrije Baptisten Gemeente De Brug - ECPv6.11.1//NONSGML v1.0//EN
CALSCALE:GREGORIAN
METHOD:PUBLISH
X-WR-CALNAME:Vrije Baptisten Gemeente De Brug
X-ORIGINAL-URL:https://www.debrughoogeveen.nl
X-WR-CALDESC:Evenementen voor Vrije Baptisten Gemeente De Brug
REFRESH-INTERVAL;VALUE=DURATION:PT1H
X-Robots-Tag:noindex
X-PUBLISHED-TTL:PT1H
BEGIN:VTIMEZONE
TZID:Europe/Amsterdam
BEGIN:DAYLIGHT
TZOFFSETFROM:+0100
TZOFFSETTO:+0200
TZNAME:CEST
DTSTART:20260329T010000
END:DAYLIGHT
BEGIN:STANDARD
TZOFFSETFROM:+0200
TZOFFSETTO:+0100
TZNAME:CET
DTSTART:20261025T010000
END:STANDARD
END:VTIMEZONE
BEGIN:VEVENT
DTSTART;TZID=Europe/Amsterdam:20260602T193000
DTEND;TZID=Europe/Amsterdam:20260602T203000
DTSTAMP:20260421T104737
CREATED:20260408T072405Z
LAST-MODIFIED:20260408T072405Z
UID:2873-1780428600-1780432200@www.debrughoogeveen.nl
SUMMARY:Wekelijkse bidstond
DESCRIPTION:
URL:https://www.debrughoogeveen.nl/agendapunt/wekelijkse-bidstond-8/
LOCATION:Carstenstraat 81\, Hoogeveen\, Nederland
END:VEVENT
BEGIN:VEVENT
DTSTART;TZID=Europe/Amsterdam:20260603T200000
DTEND;TZID=Europe/Amsterdam:20260603T220000
DTSTAMP:20260421T104737
CREATED:20260408T072457Z
LAST-MODIFIED:20260408T072505Z
UID:2875-1780516800-1780524000@www.debrughoogeveen.nl
SUMMARY:Vrouwencafe jaarafsluiting in de avond
DESCRIPTION:Kampvuur\, zingen\, gezelligheid
URL:https://www.debrughoogeveen.nl/agendapunt/vrouwencafre-jaarafsluiting-in-de-avond/
END:VEVENT
BEGIN:VEVENT
DTSTART;TZID=Europe/Amsterdam:20260607T100000
DTEND;TZID=Europe/Amsterdam:20260607T113000
DTSTAMP:20260421T104737
CREATED:20260112T081759Z
LAST-MODIFIED:20260420T093915Z
UID:2685-1780826400-1780831800@www.debrughoogeveen.nl
SUMMARY:Samenkomst 7 juni 2026
DESCRIPTION:Spreker: Freek Koster
URL:https://www.debrughoogeveen.nl/agendapunt/samenkomst-7-juni-2026/
LOCATION:Carstenstraat 81\, Hoogeveen\, Nederland
CATEGORIES:Diensten
END:VEVENT
BEGIN:VEVENT
DTSTART;TZID=Europe/Amsterdam:20260609T193000
DTEND;TZID=Europe/Amsterdam:20260609T203000
DTSTAMP:20260421T104737
CREATED:20260408T072601Z
LAST-MODIFIED:20260408T072601Z
UID:2880-1781033400-1781037000@www.debrughoogeveen.nl
SUMMARY:Wekelijkse bidstond
DESCRIPTION:
URL:https://www.debrughoogeveen.nl/agendapunt/wekelijkse-bidstond-9/
LOCATION:Carstenstraat 81\, Hoogeveen\, Nederland
END:VEVENT
BEGIN:VEVENT
DTSTART;TZID=Europe/Amsterdam:20260609T193000
DTEND;TZID=Europe/Amsterdam:20260609T220000
DTSTAMP:20260421T104737
CREATED:20260408T072529Z
LAST-MODIFIED:20260408T072529Z
UID:2878-1781033400-1781042400@www.debrughoogeveen.nl
SUMMARY:Oudstenraad
DESCRIPTION:
URL:https://www.debrughoogeveen.nl/agendapunt/oudstenraad-5/
LOCATION:Carstenstraat 81\, Hoogeveen\, Nederland
END:VEVENT
BEGIN:VEVENT
DTSTART;TZID=Europe/Amsterdam:20260614T100000
DTEND;TZID=Europe/Amsterdam:20260614T113000
DTSTAMP:20260421T104737
CREATED:20250925T082848Z
LAST-MODIFIED:20260112T081830Z
UID:2530-1781431200-1781436600@www.debrughoogeveen.nl
SUMMARY:14 juni 2026 Opdraagdienst
DESCRIPTION:Spreker: Jan Jacob Hoefnagel
URL:https://www.debrughoogeveen.nl/agendapunt/14-juni-2026-opdraagdienst/
LOCATION:Carstenstraat 81\, Hoogeveen\, Nederland
END:VEVENT
BEGIN:VEVENT
DTSTART;TZID=Europe/Amsterdam:20260616T193000
DTEND;TZID=Europe/Amsterdam:20260616T203000
DTSTAMP:20260421T104737
CREATED:20260408T072655Z
LAST-MODIFIED:20260408T072655Z
UID:2882-1781638200-1781641800@www.debrughoogeveen.nl
SUMMARY:Bidstond
DESCRIPTION:
URL:https://www.debrughoogeveen.nl/agendapunt/bidstond/
LOCATION:Carstenstraat 81\, Hoogeveen\, Nederland
END:VEVENT
BEGIN:VEVENT
DTSTART;TZID=Europe/Amsterdam:20260621T100000
DTEND;TZID=Europe/Amsterdam:20260621T120000
DTSTAMP:20260421T104737
CREATED:20250707T070452Z
LAST-MODIFIED:20260112T081851Z
UID:2243-1782036000-1782043200@www.debrughoogeveen.nl
SUMMARY:Doopdienst 21 juni 2026
DESCRIPTION:Spreker Bart Satijn
URL:https://www.debrughoogeveen.nl/agendapunt/doopdienst-21-juni-2026/
LOCATION:Carstenstraat 81\, Hoogeveen\, Nederland
CATEGORIES:Diensten
END:VEVENT
BEGIN:VEVENT
DTSTART;TZID=Europe/Amsterdam:20260623T193000
DTEND;TZID=Europe/Amsterdam:20260623T203000
DTSTAMP:20260421T104737
CREATED:20260408T072726Z
LAST-MODIFIED:20260408T072726Z
UID:2884-1782243000-1782246600@www.debrughoogeveen.nl
SUMMARY:Oudstenraad
DESCRIPTION:
URL:https://www.debrughoogeveen.nl/agendapunt/oudstenraad-6/
LOCATION:Carstenstraat 81\, Hoogeveen\, Nederland
END:VEVENT
BEGIN:VEVENT
DTSTART;TZID=Europe/Amsterdam:20260623T193000
DTEND;TZID=Europe/Amsterdam:20260623T203000
DTSTAMP:20260421T104737
CREATED:20260408T072754Z
LAST-MODIFIED:20260408T072754Z
UID:2886-1782243000-1782246600@www.debrughoogeveen.nl
SUMMARY:Bidstond
DESCRIPTION:
URL:https://www.debrughoogeveen.nl/agendapunt/bidstond-2/
LOCATION:Carstenstraat 81\, Hoogeveen\, Nederland
END:VEVENT
BEGIN:VEVENT
DTSTART;TZID=Europe/Amsterdam:20260628T100000
DTEND;TZID=Europe/Amsterdam:20260628T113000
DTSTAMP:20260421T104737
CREATED:20260112T081934Z
LAST-MODIFIED:20260112T081934Z
UID:2689-1782640800-1782646200@www.debrughoogeveen.nl
SUMMARY:Samenkomst 28 juni 2026
DESCRIPTION:Spreker Ruth Kruishoop
URL:https://www.debrughoogeveen.nl/agendapunt/samenkomst-28-juni-2026/
LOCATION:Carstenstraat 81\, Hoogeveen\, Nederland
CATEGORIES:Diensten
END:VEVENT
BEGIN:VEVENT
DTSTART;TZID=Europe/Amsterdam:20260628T190000
DTEND;TZID=Europe/Amsterdam:20260628T210000
DTSTAMP:20260421T104737
CREATED:20260408T072847Z
LAST-MODIFIED:20260408T072847Z
UID:2888-1782673200-1782680400@www.debrughoogeveen.nl
SUMMARY:Prayer en worship
DESCRIPTION:Vanaf 19.00 inloop met koffie/thee \nOm 19.30 starten we in de kelder voor een iets intiemere setting. \nWil je meer focus\, rust en verbinding met God? Kom dan naar de prayer en worship night. Deze avond is onderdeel van een serie bijzondere momenten van gebed\, verdieping en ontmoeting met God. We werken toe naar een nader te plannen periode van bidden en vasten. \nDoe je mee? Even uit de dagelijkse sleur\, om opnieuw richting te vinden
URL:https://www.debrughoogeveen.nl/agendapunt/prayer-en-worship-2/
LOCATION:Carstenstraat 81\, Hoogeveen\, Nederland
END:VEVENT
BEGIN:VEVENT
DTSTART;TZID=Europe/Amsterdam:20260630T193000
DTEND;TZID=Europe/Amsterdam:20260630T203000
DTSTAMP:20260421T104737
CREATED:20260408T072919Z
LAST-MODIFIED:20260408T072919Z
UID:2890-1782847800-1782851400@www.debrughoogeveen.nl
SUMMARY:Bidstond
DESCRIPTION:
URL:https://www.debrughoogeveen.nl/agendapunt/bidstond-3/
LOCATION:Carstenstraat 81\, Hoogeveen\, Nederland
END:VEVENT
END:VCALENDAR