BEGIN:VCALENDAR
VERSION:2.0
PRODID:-//Vrije Baptisten Gemeente De Brug - ECPv6.11.1//NONSGML v1.0//EN
CALSCALE:GREGORIAN
METHOD:PUBLISH
X-WR-CALNAME:Vrije Baptisten Gemeente De Brug
X-ORIGINAL-URL:https://www.debrughoogeveen.nl
X-WR-CALDESC:Evenementen voor Vrije Baptisten Gemeente De Brug
REFRESH-INTERVAL;VALUE=DURATION:PT1H
X-Robots-Tag:noindex
X-PUBLISHED-TTL:PT1H
BEGIN:VTIMEZONE
TZID:Europe/Amsterdam
BEGIN:DAYLIGHT
TZOFFSETFROM:+0100
TZOFFSETTO:+0200
TZNAME:CEST
DTSTART:20260329T010000
END:DAYLIGHT
BEGIN:STANDARD
TZOFFSETFROM:+0200
TZOFFSETTO:+0100
TZNAME:CET
DTSTART:20261025T010000
END:STANDARD
END:VTIMEZONE
BEGIN:VEVENT
DTSTART;TZID=Europe/Amsterdam:20260208T100000
DTEND;TZID=Europe/Amsterdam:20260208T113000
DTSTAMP:20260425T190725
CREATED:20260112T080648Z
LAST-MODIFIED:20260112T081026Z
UID:2653-1770544800-1770550200@www.debrughoogeveen.nl
SUMMARY:Samenkomst 8 februari 2026
DESCRIPTION:
URL:https://www.debrughoogeveen.nl/agendapunt/samenkomst-8-februari-2026/
LOCATION:Carstenstraat 81\, Hoogeveen\, Nederland
CATEGORIES:Diensten
END:VEVENT
BEGIN:VEVENT
DTSTART;TZID=Europe/Amsterdam:20260201T100000
DTEND;TZID=Europe/Amsterdam:20260201T113000
DTSTAMP:20260425T190725
CREATED:20260112T080604Z
LAST-MODIFIED:20260113T112219Z
UID:2651-1769940000-1769945400@www.debrughoogeveen.nl
SUMMARY:Samenkomst 1 februari 2026
DESCRIPTION:Spreker Hester Zoutman
URL:https://www.debrughoogeveen.nl/agendapunt/samenkomst-1-februari-2026/
LOCATION:Carstenstraat 81\, Hoogeveen\, Nederland
CATEGORIES:Diensten
END:VEVENT
BEGIN:VEVENT
DTSTART;TZID=Europe/Amsterdam:20260125T100000
DTEND;TZID=Europe/Amsterdam:20260125T120000
DTSTAMP:20260425T190725
CREATED:20250707T070215Z
LAST-MODIFIED:20260112T080507Z
UID:2238-1769335200-1769342400@www.debrughoogeveen.nl
SUMMARY:Doopdienst 25 januari 2026
DESCRIPTION:Samenkomst 25 januari 2025: Doopdienst \nSpreker Gerrit Lolkema
URL:https://www.debrughoogeveen.nl/agendapunt/doopdienst-25-januari-2026/
LOCATION:Carstenstraat 81\, Hoogeveen\, Nederland
CATEGORIES:Diensten
END:VEVENT
BEGIN:VEVENT
DTSTART;TZID=Europe/Amsterdam:20260118T100000
DTEND;TZID=Europe/Amsterdam:20260118T113000
DTSTAMP:20260425T190725
CREATED:20260112T080342Z
LAST-MODIFIED:20260113T112151Z
UID:2646-1768730400-1768735800@www.debrughoogeveen.nl
SUMMARY:Samenkomst 18 januari 2026
DESCRIPTION:Spreker Freek Koster
URL:https://www.debrughoogeveen.nl/agendapunt/samenkomst-18-januari-2026/
LOCATION:Carstenstraat 81\, Hoogeveen\, Nederland
CATEGORIES:Diensten
END:VEVENT
END:VCALENDAR