BEGIN:VCALENDAR
VERSION:2.0
PRODID:-//Vrije Baptisten Gemeente De Brug - ECPv6.11.1//NONSGML v1.0//EN
CALSCALE:GREGORIAN
METHOD:PUBLISH
X-ORIGINAL-URL:https://www.debrughoogeveen.nl
X-WR-CALDESC:Evenementen voor Vrije Baptisten Gemeente De Brug
REFRESH-INTERVAL;VALUE=DURATION:PT1H
X-Robots-Tag:noindex
X-PUBLISHED-TTL:PT1H
BEGIN:VTIMEZONE
TZID:Europe/Amsterdam
BEGIN:DAYLIGHT
TZOFFSETFROM:+0100
TZOFFSETTO:+0200
TZNAME:CEST
DTSTART:20260329T010000
END:DAYLIGHT
BEGIN:STANDARD
TZOFFSETFROM:+0200
TZOFFSETTO:+0100
TZNAME:CET
DTSTART:20261025T010000
END:STANDARD
END:VTIMEZONE
BEGIN:VEVENT
DTSTART;TZID=Europe/Amsterdam:20260426T100000
DTEND;TZID=Europe/Amsterdam:20260426T113000
DTSTAMP:20260425T181319
CREATED:20260112T081417Z
LAST-MODIFIED:20260407T092856Z
UID:2673-1777197600-1777203000@www.debrughoogeveen.nl
SUMMARY:Samenkomst 26 april 2026
DESCRIPTION:Spreker Gerard Grit
URL:https://www.debrughoogeveen.nl/agendapunt/samenkomst-26-april-2026/
LOCATION:Carstenstraat 81\, Hoogeveen\, Nederland
CATEGORIES:Diensten
END:VEVENT
BEGIN:VEVENT
DTSTART;TZID=Europe/Amsterdam:20260503T100000
DTEND;TZID=Europe/Amsterdam:20260503T113000
DTSTAMP:20260425T181319
CREATED:20260112T081500Z
LAST-MODIFIED:20260420T093806Z
UID:2675-1777802400-1777807800@www.debrughoogeveen.nl
SUMMARY:Samenkomst 3 mei 2026
DESCRIPTION:Spreker: Hester Zoutman
URL:https://www.debrughoogeveen.nl/agendapunt/samenkomst-3-mei-2026/
LOCATION:Carstenstraat 81\, Hoogeveen\, Nederland
CATEGORIES:Diensten
END:VEVENT
BEGIN:VEVENT
DTSTART;TZID=Europe/Amsterdam:20260510T100000
DTEND;TZID=Europe/Amsterdam:20260510T113000
DTSTAMP:20260425T181319
CREATED:20260112T081534Z
LAST-MODIFIED:20260420T093832Z
UID:2677-1778407200-1778412600@www.debrughoogeveen.nl
SUMMARY:Samenkomst 10 mei 2026
DESCRIPTION:Spreker Ronald Steenbeek
URL:https://www.debrughoogeveen.nl/agendapunt/samenkomst-10-mei-2026/
LOCATION:Carstenstraat 81\, Hoogeveen\, Nederland
CATEGORIES:Diensten
END:VEVENT
BEGIN:VEVENT
DTSTART;TZID=Europe/Amsterdam:20260517T100000
DTEND;TZID=Europe/Amsterdam:20260517T113000
DTSTAMP:20260425T181319
CREATED:20260112T081607Z
LAST-MODIFIED:20260112T081607Z
UID:2679-1779012000-1779017400@www.debrughoogeveen.nl
SUMMARY:Samenkomst 17 mei 2026
DESCRIPTION:Spreker Bert van Drogen
URL:https://www.debrughoogeveen.nl/agendapunt/samenkomst-17-mei-2026/
LOCATION:Carstenstraat 81\, Hoogeveen\, Nederland
CATEGORIES:Diensten
END:VEVENT
BEGIN:VEVENT
DTSTART;TZID=Europe/Amsterdam:20260524T100000
DTEND;TZID=Europe/Amsterdam:20260524T113000
DTSTAMP:20260425T181319
CREATED:20260112T081634Z
LAST-MODIFIED:20260112T081634Z
UID:2681-1779616800-1779622200@www.debrughoogeveen.nl
SUMMARY:Samenkomst 24 mei 2026
DESCRIPTION:
URL:https://www.debrughoogeveen.nl/agendapunt/samenkomst-24-mei-2026/
LOCATION:Carstenstraat 81\, Hoogeveen\, Nederland
CATEGORIES:Diensten
END:VEVENT
BEGIN:VEVENT
DTSTART;TZID=Europe/Amsterdam:20260531T100000
DTEND;TZID=Europe/Amsterdam:20260531T113000
DTSTAMP:20260425T181319
CREATED:20260112T081712Z
LAST-MODIFIED:20260112T081712Z
UID:2683-1780221600-1780227000@www.debrughoogeveen.nl
SUMMARY:Samenkomst 31 mei 2026
DESCRIPTION:Spreker Erik van Duijl
URL:https://www.debrughoogeveen.nl/agendapunt/samenkomst-31-mei-2026/
LOCATION:Carstenstraat 81\, Hoogeveen\, Nederland
CATEGORIES:Diensten
END:VEVENT
BEGIN:VEVENT
DTSTART;TZID=Europe/Amsterdam:20260607T100000
DTEND;TZID=Europe/Amsterdam:20260607T113000
DTSTAMP:20260425T181319
CREATED:20260112T081759Z
LAST-MODIFIED:20260420T093915Z
UID:2685-1780826400-1780831800@www.debrughoogeveen.nl
SUMMARY:Samenkomst 7 juni 2026
DESCRIPTION:Spreker: Freek Koster
URL:https://www.debrughoogeveen.nl/agendapunt/samenkomst-7-juni-2026/
LOCATION:Carstenstraat 81\, Hoogeveen\, Nederland
CATEGORIES:Diensten
END:VEVENT
BEGIN:VEVENT
DTSTART;TZID=Europe/Amsterdam:20260621T100000
DTEND;TZID=Europe/Amsterdam:20260621T120000
DTSTAMP:20260425T181319
CREATED:20250707T070452Z
LAST-MODIFIED:20260112T081851Z
UID:2243-1782036000-1782043200@www.debrughoogeveen.nl
SUMMARY:Doopdienst 21 juni 2026
DESCRIPTION:Spreker Bart Satijn
URL:https://www.debrughoogeveen.nl/agendapunt/doopdienst-21-juni-2026/
LOCATION:Carstenstraat 81\, Hoogeveen\, Nederland
CATEGORIES:Diensten
END:VEVENT
BEGIN:VEVENT
DTSTART;TZID=Europe/Amsterdam:20260628T100000
DTEND;TZID=Europe/Amsterdam:20260628T113000
DTSTAMP:20260425T181319
CREATED:20260112T081934Z
LAST-MODIFIED:20260112T081934Z
UID:2689-1782640800-1782646200@www.debrughoogeveen.nl
SUMMARY:Samenkomst 28 juni 2026
DESCRIPTION:Spreker Ruth Kruishoop
URL:https://www.debrughoogeveen.nl/agendapunt/samenkomst-28-juni-2026/
LOCATION:Carstenstraat 81\, Hoogeveen\, Nederland
CATEGORIES:Diensten
END:VEVENT
BEGIN:VEVENT
DTSTART;TZID=Europe/Amsterdam:20260705T100000
DTEND;TZID=Europe/Amsterdam:20260705T113000
DTSTAMP:20260425T181319
CREATED:20260112T082027Z
LAST-MODIFIED:20260112T082027Z
UID:2691-1783245600-1783251000@www.debrughoogeveen.nl
SUMMARY:Samenkomst 5 juli 2026
DESCRIPTION:Spreker Jan Jacob Hoefnagel
URL:https://www.debrughoogeveen.nl/agendapunt/samenkomst-5-juli-2026/
LOCATION:Carstenstraat 81\, Hoogeveen\, Nederland
CATEGORIES:Diensten
END:VEVENT
BEGIN:VEVENT
DTSTART;TZID=Europe/Amsterdam:20260712T100000
DTEND;TZID=Europe/Amsterdam:20260712T113000
DTSTAMP:20260425T181319
CREATED:20260112T082102Z
LAST-MODIFIED:20260112T082102Z
UID:2693-1783850400-1783855800@www.debrughoogeveen.nl
SUMMARY:Samenkomst 12 juli 2026
DESCRIPTION:Spreker Gerry de Vries
URL:https://www.debrughoogeveen.nl/agendapunt/samenkomst-12-juli-2026/
LOCATION:Carstenstraat 81\, Hoogeveen\, Nederland
CATEGORIES:Diensten
END:VEVENT
BEGIN:VEVENT
DTSTART;TZID=Europe/Amsterdam:20260719T100000
DTEND;TZID=Europe/Amsterdam:20260719T113000
DTSTAMP:20260425T181319
CREATED:20260112T082130Z
LAST-MODIFIED:20260420T094031Z
UID:2695-1784455200-1784460600@www.debrughoogeveen.nl
SUMMARY:Samenkomst 19 juli 2026
DESCRIPTION:Spreker: Richard Klein
URL:https://www.debrughoogeveen.nl/agendapunt/samenkomst-19-juli-2026/
LOCATION:Carstenstraat 81\, Hoogeveen\, Nederland
CATEGORIES:Diensten
END:VEVENT
BEGIN:VEVENT
DTSTART;TZID=Europe/Amsterdam:20260726T100000
DTEND;TZID=Europe/Amsterdam:20260726T113000
DTSTAMP:20260425T181319
CREATED:20260112T082213Z
LAST-MODIFIED:20260112T082213Z
UID:2697-1785060000-1785065400@www.debrughoogeveen.nl
SUMMARY:Samenkomst 26 juli 2026
DESCRIPTION:Spreker Dineke Oostindjer
URL:https://www.debrughoogeveen.nl/agendapunt/samenkomst-26-juli-2026/
LOCATION:Carstenstraat 81\, Hoogeveen\, Nederland
CATEGORIES:Diensten
END:VEVENT
BEGIN:VEVENT
DTSTART;TZID=Europe/Amsterdam:20260802T100000
DTEND;TZID=Europe/Amsterdam:20260802T113000
DTSTAMP:20260425T181319
CREATED:20260112T082254Z
LAST-MODIFIED:20260112T082254Z
UID:2699-1785664800-1785670200@www.debrughoogeveen.nl
SUMMARY:Samenkomst 2 augustus 2026
DESCRIPTION:Spreker Reyer ten Napel
URL:https://www.debrughoogeveen.nl/agendapunt/samenkomst-2-augustus-2026/
LOCATION:Carstenstraat 81\, Hoogeveen\, Nederland
CATEGORIES:Diensten
END:VEVENT
BEGIN:VEVENT
DTSTART;TZID=Europe/Amsterdam:20260809T100000
DTEND;TZID=Europe/Amsterdam:20260809T113000
DTSTAMP:20260425T181319
CREATED:20260112T082336Z
LAST-MODIFIED:20260112T090942Z
UID:2701-1786269600-1786275000@www.debrughoogeveen.nl
SUMMARY:Samenkomst 9 augustus 2026
DESCRIPTION:Spreker Jens van den Akker
URL:https://www.debrughoogeveen.nl/agendapunt/samenkomst-9-augustus-2026/
LOCATION:Carstenstraat 81\, Hoogeveen\, Nederland
CATEGORIES:Diensten
END:VEVENT
BEGIN:VEVENT
DTSTART;TZID=Europe/Amsterdam:20260816T100000
DTEND;TZID=Europe/Amsterdam:20260816T113000
DTSTAMP:20260425T181319
CREATED:20260112T082431Z
LAST-MODIFIED:20260112T082431Z
UID:2703-1786874400-1786879800@www.debrughoogeveen.nl
SUMMARY:Samenkomst 16 augustus 2026
DESCRIPTION:Spreker Jan de Boer
URL:https://www.debrughoogeveen.nl/agendapunt/samenkomst-16-augustus-2026/
LOCATION:Carstenstraat 81\, Hoogeveen\, Nederland
CATEGORIES:Diensten
END:VEVENT
BEGIN:VEVENT
DTSTART;TZID=Europe/Amsterdam:20260823T100000
DTEND;TZID=Europe/Amsterdam:20260823T113000
DTSTAMP:20260425T181319
CREATED:20260112T082512Z
LAST-MODIFIED:20260112T082512Z
UID:2705-1787479200-1787484600@www.debrughoogeveen.nl
SUMMARY:Samenkomst 23 augustus 2026
DESCRIPTION:Spreker Reyer ten Napel
URL:https://www.debrughoogeveen.nl/agendapunt/samenkomst-23-augustus-2026/
LOCATION:Carstenstraat 81\, Hoogeveen\, Nederland
CATEGORIES:Diensten
END:VEVENT
BEGIN:VEVENT
DTSTART;TZID=Europe/Amsterdam:20260830T100000
DTEND;TZID=Europe/Amsterdam:20260830T113000
DTSTAMP:20260425T181319
CREATED:20260112T082538Z
LAST-MODIFIED:20260112T082538Z
UID:2707-1788084000-1788089400@www.debrughoogeveen.nl
SUMMARY:Samenkomst 30 augustus 2026
DESCRIPTION:
URL:https://www.debrughoogeveen.nl/agendapunt/samenkomst-30-augustus-2026/
LOCATION:Carstenstraat 81\, Hoogeveen\, Nederland
CATEGORIES:Diensten
END:VEVENT
BEGIN:VEVENT
DTSTART;TZID=Europe/Amsterdam:20260906T100000
DTEND;TZID=Europe/Amsterdam:20260906T113000
DTSTAMP:20260425T181319
CREATED:20260112T082615Z
LAST-MODIFIED:20260112T082615Z
UID:2709-1788688800-1788694200@www.debrughoogeveen.nl
SUMMARY:Samenkomst 6 september 2026
DESCRIPTION:
URL:https://www.debrughoogeveen.nl/agendapunt/samenkomst-6-september-2026/
LOCATION:Carstenstraat 81\, Hoogeveen\, Nederland
CATEGORIES:Diensten
END:VEVENT
BEGIN:VEVENT
DTSTART;TZID=Europe/Amsterdam:20260913T100000
DTEND;TZID=Europe/Amsterdam:20260913T113000
DTSTAMP:20260425T181319
CREATED:20260112T083008Z
LAST-MODIFIED:20260112T083008Z
UID:2711-1789293600-1789299000@www.debrughoogeveen.nl
SUMMARY:Samenkomst 13 september 2026
DESCRIPTION:
URL:https://www.debrughoogeveen.nl/agendapunt/samenkomst-13-september-2026/
LOCATION:Carstenstraat 81\, Hoogeveen\, Nederland
CATEGORIES:Diensten
END:VEVENT
BEGIN:VEVENT
DTSTART;TZID=Europe/Amsterdam:20260920T100000
DTEND;TZID=Europe/Amsterdam:20260920T113000
DTSTAMP:20260425T181319
CREATED:20260112T083040Z
LAST-MODIFIED:20260112T083040Z
UID:2713-1789898400-1789903800@www.debrughoogeveen.nl
SUMMARY:Samenkomst 20 september 2026
DESCRIPTION:
URL:https://www.debrughoogeveen.nl/agendapunt/samenkomst-20-september-2026/
LOCATION:Carstenstraat 81\, Hoogeveen\, Nederland
CATEGORIES:Diensten
END:VEVENT
BEGIN:VEVENT
DTSTART;TZID=Europe/Amsterdam:20260927T100000
DTEND;TZID=Europe/Amsterdam:20260927T113000
DTSTAMP:20260425T181319
CREATED:20260112T083122Z
LAST-MODIFIED:20260112T083122Z
UID:2715-1790503200-1790508600@www.debrughoogeveen.nl
SUMMARY:Samenkomst 27 september 2026
DESCRIPTION:Spreker Jan Jacob Hoefnagel
URL:https://www.debrughoogeveen.nl/agendapunt/samenkomst-27-september-2026/
LOCATION:Carstenstraat 81\, Hoogeveen\, Nederland
CATEGORIES:Diensten
END:VEVENT
BEGIN:VEVENT
DTSTART;TZID=Europe/Amsterdam:20261004T100000
DTEND;TZID=Europe/Amsterdam:20261004T113000
DTSTAMP:20260425T181319
CREATED:20260112T083145Z
LAST-MODIFIED:20260112T083145Z
UID:2717-1791108000-1791113400@www.debrughoogeveen.nl
SUMMARY:Samenkomst 4 oktober 2026
DESCRIPTION:
URL:https://www.debrughoogeveen.nl/agendapunt/samenkomst-4-oktober-2026/
LOCATION:Carstenstraat 81\, Hoogeveen\, Nederland
CATEGORIES:Diensten
END:VEVENT
BEGIN:VEVENT
DTSTART;TZID=Europe/Amsterdam:20261011T100000
DTEND;TZID=Europe/Amsterdam:20261011T113000
DTSTAMP:20260425T181319
CREATED:20260112T083219Z
LAST-MODIFIED:20260112T083219Z
UID:2719-1791712800-1791718200@www.debrughoogeveen.nl
SUMMARY:Samenkomst 11 oktober 2026
DESCRIPTION:
URL:https://www.debrughoogeveen.nl/agendapunt/samenkomst-11-oktober-2026/
LOCATION:Carstenstraat 81\, Hoogeveen\, Nederland
CATEGORIES:Diensten
END:VEVENT
BEGIN:VEVENT
DTSTART;TZID=Europe/Amsterdam:20261018T100000
DTEND;TZID=Europe/Amsterdam:20261018T113000
DTSTAMP:20260425T181319
CREATED:20260112T083317Z
LAST-MODIFIED:20260112T083317Z
UID:2721-1792317600-1792323000@www.debrughoogeveen.nl
SUMMARY:Samenkomst 18 oktober 2026
DESCRIPTION:Spreker Ruth Kruishoop
URL:https://www.debrughoogeveen.nl/agendapunt/samenkomst-18-oktober-2026/
LOCATION:Carstenstraat 81\, Hoogeveen\, Nederland
CATEGORIES:Diensten
END:VEVENT
BEGIN:VEVENT
DTSTART;TZID=Europe/Amsterdam:20261025T100000
DTEND;TZID=Europe/Amsterdam:20261025T113000
DTSTAMP:20260425T181319
CREATED:20260112T083358Z
LAST-MODIFIED:20260112T083358Z
UID:2723-1792922400-1792927800@www.debrughoogeveen.nl
SUMMARY:Samenkomst 25 oktober 2026
DESCRIPTION:Spreker Robert Colijn
URL:https://www.debrughoogeveen.nl/agendapunt/samenkomst-25-oktober-2026/
LOCATION:Carstenstraat 81\, Hoogeveen\, Nederland
CATEGORIES:Diensten
END:VEVENT
BEGIN:VEVENT
DTSTART;TZID=Europe/Amsterdam:20261101T100000
DTEND;TZID=Europe/Amsterdam:20261101T113000
DTSTAMP:20260425T181319
CREATED:20260112T083434Z
LAST-MODIFIED:20260112T083434Z
UID:2725-1793527200-1793532600@www.debrughoogeveen.nl
SUMMARY:Samenkomst 1 november 2026
DESCRIPTION:Spreker Rob Duijzer
URL:https://www.debrughoogeveen.nl/agendapunt/samenkomst-1-november-2026/
LOCATION:Carstenstraat 81\, Hoogeveen\, Nederland
CATEGORIES:Diensten
END:VEVENT
BEGIN:VEVENT
DTSTART;TZID=Europe/Amsterdam:20261108T100000
DTEND;TZID=Europe/Amsterdam:20261108T113000
DTSTAMP:20260425T181319
CREATED:20260112T083517Z
LAST-MODIFIED:20260112T083517Z
UID:2727-1794132000-1794137400@www.debrughoogeveen.nl
SUMMARY:Samenkomst 8 november 2026
DESCRIPTION:Spreker Arjan Zantingh
URL:https://www.debrughoogeveen.nl/agendapunt/samenkomst-8-november-2026/
LOCATION:Carstenstraat 81\, Hoogeveen\, Nederland
CATEGORIES:Diensten
END:VEVENT
BEGIN:VEVENT
DTSTART;TZID=Europe/Amsterdam:20261115T100000
DTEND;TZID=Europe/Amsterdam:20261115T113000
DTSTAMP:20260425T181319
CREATED:20260112T083558Z
LAST-MODIFIED:20260112T083558Z
UID:2729-1794736800-1794742200@www.debrughoogeveen.nl
SUMMARY:Samenkomst 15 november 2026
DESCRIPTION:Spreker Harm Renkema
URL:https://www.debrughoogeveen.nl/agendapunt/samenkomst-15-november-2026/
LOCATION:Carstenstraat 81\, Hoogeveen\, Nederland
CATEGORIES:Diensten
END:VEVENT
BEGIN:VEVENT
DTSTART;TZID=Europe/Amsterdam:20261122T100000
DTEND;TZID=Europe/Amsterdam:20261122T113000
DTSTAMP:20260425T181319
CREATED:20260112T083641Z
LAST-MODIFIED:20260112T090637Z
UID:2731-1795341600-1795347000@www.debrughoogeveen.nl
SUMMARY:Samenkomst 22 november 2026
DESCRIPTION:Spreker Gerrit Lolkema
URL:https://www.debrughoogeveen.nl/agendapunt/samenkomst-22-november-2026/
LOCATION:Carstenstraat 81\, Hoogeveen\, Nederland
CATEGORIES:Diensten
END:VEVENT
END:VCALENDAR